BEGIN:VCALENDAR
PRODID:-//eluceo/ical//2.0/EN
VERSION:2.0
CALSCALE:GREGORIAN
BEGIN:VEVENT
UID:f74a264abdf2f643067fd53237801f22
DTSTAMP:20260420T091126Z
SUMMARY:FESTIBASE : Journée Sport - Santé - Nature - Culture
DESCRIPTION:
URL:https://saint-junien-trois-rivieres.d1740.polaris.rotary.fr/fr/agenda/s
 how/50668
DTSTART;TZID=Europe/Zurich:20260530T080000
DTEND;TZID=Europe/Zurich:20260530T233000
LOCATION:Base de loisirs de Saint-Victurnien
CATEGORIES:Rotary
END:VEVENT
BEGIN:VTIMEZONE
TZID:Europe/Zurich
BEGIN:DAYLIGHT
DTSTART:20260530T080000
TZNAME:CEST
TZOFFSETTO:+0200
TZOFFSETFROM:+0200
END:DAYLIGHT
END:VTIMEZONE
END:VCALENDAR
