BEGIN:VCALENDAR
PRODID:-//eluceo/ical//2.0/EN
VERSION:2.0
CALSCALE:GREGORIAN
BEGIN:VEVENT
UID:556698455a495c2aaf6309375a7c72c9
DTSTAMP:20260421T082938Z
SUMMARY:Journée Sport - Santé - Nature - Culture
DESCRIPTION:
URL:https://saint-junien-trois-rivieres.d1740.polaris.rotary.fr/fr/agenda/s
 how/49758
DTSTART;TZID=Europe/Zurich:20250524T080000
DTEND;TZID=Europe/Zurich:20250524T230000
LOCATION:Base de loisirs de Saint-Victurnien
CATEGORIES:Rotary
END:VEVENT
BEGIN:VTIMEZONE
TZID:Europe/Zurich
BEGIN:DAYLIGHT
DTSTART:20250524T080000
TZNAME:CEST
TZOFFSETTO:+0200
TZOFFSETFROM:+0200
END:DAYLIGHT
END:VTIMEZONE
END:VCALENDAR
